BEGIN:VCALENDAR
VERSION:2.0
PRODID:-//wp-events-plugin.com//7.2.3.1//EN
TZID:America/New_York
X-WR-TIMEZONE:America/New_York
BEGIN:VEVENT
UID:1496@delvets.com
DTSTART;TZID=America/New_York:20250411T190000
DTEND;TZID=America/New_York:20250411T230000
DTSTAMP:20250129T142503Z
URL:https://delvets.com/events/aunt-mary-pat-comedy-show-fundraiser/
SUMMARY:Aunt Mary Pat Comedy Show Fundraiser
DESCRIPTION:SoulJoel Presents:\nWilmington\, DE: Aunt Mary Pat Comedy Show 
 Fundraiser\nAll to benefit St. David’s Episcopal Church\nFriday April 11
 th\nDelaware Veterans Post #1\n2535 Veterans Drive\nWilmington\, DE 19810\
 nDoors open at 7 Show starts at 8pm\n\nCash bar\nBring shareable snacks fo
 r your table\nAbout Aunt Mary Pat:\nAunt Mary Pat first came onto the scen
 e in early 2018 through a viral video after the Historic Eagles Super Bowl
  win! Since then\, she has performed more than 100 unique shows for thousa
 nds of people. In early 2019\, after a successful kickstarted campaign she
  released her debut comedy album “Talk of the Township.” It hit #5 on 
 the iTunes comedy charts. The album featured three #1 iTunes comedy single
 s.\n\nAunt Mary Pat has been recognized as Delaware’s Readers’ Choice 
 best entertainer 2019 and Best of Delco’s 2019 for best comedian. Her ca
 tch phrases have become synonymous with the Philadelphia region. She recen
 tly released a successful Christmas album called “Mary Friggin Christmas
 .” She will embarking on her first national tour in 2020 called “The F
 ish Outta Woodier Tour:” Aunt Mary Pat enjoys raising funds for local LG
 BTQ+ fundraisers
ATTACH;FMTTYPE=image/jpeg:https://delvets.com/wp-content/uploads/2025/01/a
 untmarypatheadshot.jpg
CATEGORIES:Hall Public
END:VEVENT
BEGIN:VTIMEZONE
TZID:America/New_York
X-LIC-LOCATION:America/New_York
BEGIN:DAYLIGHT
DTSTART:20250309T030000
TZOFFSETFROM:-0500
TZOFFSETTO:-0400
TZNAME:EDT
END:DAYLIGHT
END:VTIMEZONE
END:VCALENDAR