BEGIN:VCALENDAR
VERSION:2.0
PRODID:-//wp-events-plugin.com//7.2.3.1//EN
TZID:America/New_York
X-WR-TIMEZONE:America/New_York
BEGIN:VEVENT
UID:2414@delvets.com
DTSTART;TZID=America/New_York:20260426T100000
DTEND;TZID=America/New_York:20260426T140000
DTSTAMP:20260413T003508Z
URL:https://delvets.com/events/craft-show-3/
SUMMARY:Craft Show
DESCRIPTION:
ATTACH;FMTTYPE=image/jpeg:https://delvets.com/wp-content/uploads/2026/04/C
 raft-Show-26-flyer.png
CATEGORIES:Hall Rental,Mess Hall
LOCATION:Delaware Veterans Post #1\, 2535 Veterans Drive\, Wilmington\, DE\
 , 19810\, United States
X-APPLE-STRUCTURED-LOCATION;VALUE=URI;X-ADDRESS=2535 Veterans Drive\, Wilmi
 ngton\, DE\, 19810\, United States;X-APPLE-RADIUS=100;X-TITLE=Delaware Vet
 erans Post #1:geo:0,0
END:VEVENT
BEGIN:VTIMEZONE
TZID:America/New_York
X-LIC-LOCATION:America/New_York
BEGIN:DAYLIGHT
DTSTART:20260308T030000
TZOFFSETFROM:-0500
TZOFFSETTO:-0400
TZNAME:EDT
END:DAYLIGHT
END:VTIMEZONE
END:VCALENDAR