BEGIN:VCALENDAR
VERSION:2.0
PRODID:-//wp-events-plugin.com//7.2.3.1//EN
TZID:America/New_York
X-WR-TIMEZONE:America/New_York
BEGIN:VEVENT
UID:2321@delvets.com
DTSTART;TZID=America/New_York:20260504T193000
DTEND;TZID=America/New_York:20260504T220000
DTSTAMP:20251210T203659Z
URL:https://delvets.com/events/ladies-shuffleboard-league-in-the-pool-hall
 -4-2026-02-02-2026-02-09-2026-02-16-2026-02-23-2026-03-02-2026-03-09-2026-
 03-16-2026-03-23-2026-03-30-2026-04-06-2026-04-13-2026-04-20-2026-04-27-20
 26-05-04/
SUMMARY:Ladies Shuffleboard League in the pool hall
DESCRIPTION:The women of the Post are still playing shuffleboard on Mondays
 . You ladies are welcome to come out and join them.\n\nHave an adult drink
  from the lounge and have a lot of fun. I've watched them play\, it is fun
 . They have also\n\nbeen known to play an interesting dice game as well. W
 hat did Cyndi Lauper say? Girls just want to have fun.
ATTACH;FMTTYPE=image/jpeg:https://delvets.com/wp-content/uploads/2023/09/l
 adies-shuffleboard.jpg
CATEGORIES:Sports
LOCATION:Delaware Veterans Post #1\, 2535 Veterans Drive\, Wilmington\, DE\
 , 19810\, United States
X-APPLE-STRUCTURED-LOCATION;VALUE=URI;X-ADDRESS=2535 Veterans Drive\, Wilmi
 ngton\, DE\, 19810\, United States;X-APPLE-RADIUS=100;X-TITLE=Delaware Vet
 erans Post #1:geo:0,0
END:VEVENT
BEGIN:VTIMEZONE
TZID:America/New_York
X-LIC-LOCATION:America/New_York
BEGIN:DAYLIGHT
DTSTART:20260308T030000
TZOFFSETFROM:-0500
TZOFFSETTO:-0400
TZNAME:EDT
END:DAYLIGHT
END:VTIMEZONE
END:VCALENDAR