BEGIN:VCALENDAR
VERSION:2.0
PRODID:-//wp-events-plugin.com//7.2.3.1//EN
TZID:America/New_York
X-WR-TIMEZONE:America/New_York
BEGIN:VEVENT
UID:1506@delvets.com
DTSTART;TZID=America/New_York:20261231T200000
DTEND;TZID=America/New_York:20261231T235900
DTSTAMP:20260105T213726Z
URL:https://delvets.com/events/ny-eve-party-2/
SUMMARY:NY Eve Party
DESCRIPTION:
CATEGORIES:Hall Public,Special Event
END:VEVENT
BEGIN:VTIMEZONE
TZID:America/New_York
X-LIC-LOCATION:America/New_York
BEGIN:STANDARD
DTSTART:20261101T010000
TZOFFSETFROM:-0400
TZOFFSETTO:-0500
TZNAME:EST
END:STANDARD
END:VTIMEZONE
END:VCALENDAR