BEGIN:VCALENDAR
VERSION:2.0
PRODID:-//wp-events-plugin.com//7.2.3.1//EN
TZID:America/New_York
X-WR-TIMEZONE:America/New_York
BEGIN:VEVENT
UID:2091@delvets.com
DTSTART;TZID=America/New_York:20270406T191500
DTEND;TZID=America/New_York:20270406T211500
DTSTAMP:20251020T211437Z
URL:https://delvets.com/events/wacs-meeting-4-2026-09-01-2026-10-06-2026-1
 1-03-2026-12-01-2027-01-05-2027-02-02-2027-03-02-2027-04-06/
SUMMARY:WACS Meeting
DESCRIPTION:
ATTACH;FMTTYPE=image/jpeg:https://delvets.com/wp-content/uploads/2023/01/w
 acs-meeting.jpg
CATEGORIES:Hall Public,Meetings,WACS
END:VEVENT
BEGIN:VTIMEZONE
TZID:America/New_York
X-LIC-LOCATION:America/New_York
BEGIN:DAYLIGHT
DTSTART:20270314T030000
TZOFFSETFROM:-0500
TZOFFSETTO:-0400
TZNAME:EDT
END:DAYLIGHT
END:VTIMEZONE
END:VCALENDAR